Workbook

Sheet Dashboard
A1: Dashboard – Checklist de Reporting ESG
A3: Total de Itens da Checklist | B3: =COUNTA('ESG Reporting Checklist'!B4:B1000) -> 27 | D3: Progresso Global
A4: Concluídos | B4: =COUNTIF('ESG Reporting Checklist'!I:I,"Concluído") -> 0 | D4: =B9 -> 0
A5: Em curso | B5: =COUNTIF('ESG Reporting Checklist'!I:I,"Em curso") -> 0
A6: Bloqueados | B6: =COUNTIF('ESG Reporting Checklist'!I:I,"Bloqueado") -> 0 | D6: Como utilizar
A7: Não iniciados | B7: =COUNTIF('ESG Reporting Checklist'!I:I,"Não iniciado") -> 27 | D7: Atualize o Status de cada item, atribua um Responsável, adicione um Prazo e registe Notas do Mentor durante workshops ou sessões de mentoring.
A8: Não aplicáveis | B8: =COUNTIF('ESG Reporting Checklist'!I:I,"Não aplicável") -> 0
A9: % de Conclusão | B9: =IF(B3-B8=0,0,B4/(B3-B8)) -> 0
A12: Progresso por Fase
A13: Fase | B13: Total de Itens | C13: Concluídos | D13: % de Conclusão
A14: Fase 1 – Preparação e Definição do Âmbito | B14: =COUNTIF('ESG Reporting Checklist'!A:A,A14) -> 3 | C14: =COUNTIFS('ESG Reporting Checklist'!A:A,A14,'ESG Reporting Checklist'!I:I,"Concluído") -> 0 | D14: =IF(B14=0,0,C14/B14) -> 0
A15: Fase 2 – Perfil Organizacional e Governação | B15: =COUNTIF('ESG Reporting Checklist'!A:A,A15) -> 3 | C15: =COUNTIFS('ESG Reporting Checklist'!A:A,A15,'ESG Reporting Checklist'!I:I,"Concluído") -> 0 | D15: =IF(B15=0,0,C15/B15) -> 0
A16: Fase 3 – Temas ESG Materiais | B16: =COUNTIF('ESG Reporting Checklist'!A:A,A16) -> 3 | C16: =COUNTIFS('ESG Reporting Checklist'!A:A,A16,'ESG Reporting Checklist'!I:I,"Concluído") -> 0 | D16: =IF(B16=0,0,C16/B16) -> 0
A17: Fase 4 – Dados Ambientais | B17: =COUNTIF('ESG Reporting Checklist'!A:A,A17) -> 3 | C17: =COUNTIFS('ESG Reporting Checklist'!A:A,A17,'ESG Reporting Checklist'!I:I,"Concluído") -> 0 | D17: =IF(B17=0,0,C17/B17) -> 0
A18: Fase 5 – Práticas Sociais e de Recursos Humanos | B18: =COUNTIF('ESG Reporting Checklist'!A:A,A18) -> 3 | C18: =COUNTIFS('ESG Reporting Checklist'!A:A,A18,'ESG Reporting Checklist'!I:I,"Concluído") -> 0 | D18: =IF(B18=0,0,C18/B18) -> 0
A19: Fase 6 – Governação e Ética | B19: =COUNTIF('ESG Reporting Checklist'!A:A,A19) -> 3 | C19: =COUNTIFS('ESG Reporting Checklist'!A:A,A19,'ESG Reporting Checklist'!I:I,"Concluído") -> 0 | D19: =IF(B19=0,0,C19/B19) -> 0
A20: Fase 7 – Metas e KPIs | B20: =COUNTIF('ESG Reporting Checklist'!A:A,A20) -> 3 | C20: =COUNTIFS('ESG Reporting Checklist'!A:A,A20,'ESG Reporting Checklist'!I:I,"Concluído") -> 0 | D20: =IF(B20=0,0,C20/B20) -> 0
A21: Fase 8 – Narrativa ESG | B21: =COUNTIF('ESG Reporting Checklist'!A:A,A21) -> 3 | C21: =COUNTIFS('ESG Reporting Checklist'!A:A,A21,'ESG Reporting Checklist'!I:I,"Concluído") -> 0 | D21: =IF(B21=0,0,C21/B21) -> 0
A22: Fase 9 – Revisão e Finalização | B22: =COUNTIF('ESG Reporting Checklist'!A:A,A22) -> 3 | C22: =COUNTIFS('ESG Reporting Checklist'!A:A,A22,'ESG Reporting Checklist'!I:I,"Concluído") -> 0 | D22: =IF(B22=0,0,C22/B22) -> 0

Sheet ESG Reporting Checklist
A1: Fase | B1: N.º do Passo | C1: Item da Checklist | D1: Descrição | E1: Secção do Template | F1: Responsável | G1: Prazo | H1: Notas do Mentor | I1: Status
A2: Instruções | B2: Utilize o dropdown de Status para acompanhar cada item. Atribua um Responsável, defina um Prazo e adicione Notas do Mentor durante as sessões de apoio.
A3: % de Conclusão | B3: =IF(COUNTIF(I:I,"Concluído")+COUNTIF(I:I,"Em curso")+COUNTIF(I:I,"Bloqueado")+COUNTIF(I:I,"Não iniciado")+COUNTIF(I:I,"Não aplicável")=0,0,COUNTIF(I:I,"Concluído")/(COUNTIF(I:I,"Concluído")+COUNTIF(I:I,"Em curso")+COUNTIF(I:I,"Bloqueado")+COUNTIF(I:I,"Não iniciado"))) -> 0
A4: Fase 1 – Preparação e Definição do Âmbito | B4: 1 | C4: Definir o objetivo do relatório ESG | D4: Clarificar por que razão a empresa prepara o relatório ESG (preparação regulamentar, investidores, requisitos da cadeia de abastecimento). | E4: Capa & Instruções | I4: Não iniciado
A5: Fase 1 – Preparação e Definição do Âmbito | B5: 2 | C5: Definir o âmbito do reporting | D5: Determinar as unidades de negócio, as operações e o período de reporting incluídos no relatório. | E5: Capa & Instruções | I5: Não iniciado
A6: Fase 1 – Preparação e Definição do Âmbito | B6: 3 | C6: Atribuir responsabilidades ESG | D6: Designar uma pessoa ou equipa responsável pela recolha de dados ESG e pelo reporting. | E6: Capa & Instruções | I6: Não iniciado
A7: Fase 2 – Perfil Organizacional e Governação | B7: 4 | C7: Documentar o perfil da empresa | D7: Descrever as atividades, o setor, a presença geográfica e a posição da empresa na cadeia de valor. | E7: Perfil & Governação | I7: Não iniciado
A8: Fase 2 – Perfil Organizacional e Governação | B8: 5 | C8: Identificar a estrutura de governação | D8: Descrever a estrutura do órgão de administração, as funções de liderança e a supervisão das questões de sustentabilidade. | E8: Perfil & Governação | I8: Não iniciado
A9: Fase 2 – Perfil Organizacional e Governação | B9: 6 | C9: Listar as políticas relevantes | D9: Documentar políticas de ética, ambiente, trabalho e compliance. | E9: Perfil & Governação | I9: Não iniciado
A10: Fase 3 – Temas ESG Materiais | B10: 7 | C10: Identificar os temas ESG | D10: Listar os temas ambientais, sociais e de governação relevantes para a empresa. | E10: Materiality | I10: Não iniciado
A11: Fase 3 – Temas ESG Materiais | B11: 8 | C11: Realizar a avaliação de materiais | D11: Avaliar quais os temas ESG mais importantes para a empresa e para os stakeholders. | E11: Materiality | I11: Não iniciado
A12: Fase 3 – Temas ESG Materiais | B12: 9 | C12: Priorizar os temas ESG materiais | D12: Selecionar os temas ESG que serão incluídos no reporting. | E12: Materiality | I12: Não iniciado
A13: Fase 4 – Dados Ambientais | B13: 10 | C13: Definir indicadores ambientais | D13: Identificar métricas como consumo de energia, emissões, consumo de água e resíduos. | E13: Métricas Ambientais (Blue) | I13: Não iniciado
A14: Fase 4 – Dados Ambientais | B14: 11 | C14: Recolher dados ambientais | D14: Recolher dados operacionais a partir de registos internos e sistemas de monitorização. | E14: Métricas Ambientais (Blue) | I14: Não iniciado
A15: Fase 4 – Dados Ambientais | B15: 12 | C15: Documentar ações ambientais | D15: Registar iniciativas implementadas para reduzir os impactos ambientais. | E15: Métricas Ambientais (Blue) | I15: Não iniciado
... A30: Fase 9 – Revisão e Finalização | B30: 27 | C30: Aprovação final | D30: A gestão revê e aprova o relatório ESG. | E30: Glossário & Definições | I30: Não iniciado

Sheet Lists
A1: Não iniciado
A2: Em curso
A3: Concluído
A4: Bloqueado
A5: Não aplicável
